BEGIN:VCALENDAR
VERSION:2.0
PRODID:-//Plone.org//NONSGML plone.app.event//EN
X-WR-TIMEZONE:Europe/Berlin
BEGIN:VEVENT
SUMMARY:Conferenza con Riccardo Blumer
DTSTART;TZID=Europe/Berlin;VALUE=DATE-TIME:20180418T143000
DTSTAMP;VALUE=DATE-TIME:20260421T231445Z
UID:572337a70f3c4bc7b56ab1bc2a59f60a@localhost:8109
CREATED;VALUE=DATE-TIME:20220523T123634Z
LAST-MODIFIED;VALUE=DATE-TIME:20220527T100618Z
URL:https://corsi.unife.it/design/eventi/2018/conferenza-con-riccardo-blum
 er
END:VEVENT
BEGIN:VTIMEZONE
TZID:Europe/Berlin
X-LIC-LOCATION:Europe/Berlin
BEGIN:DAYLIGHT
DTSTART;VALUE=DATE-TIME:20180325T030000
TZNAME:CEST
TZOFFSETFROM:+0100
TZOFFSETTO:+0200
END:DAYLIGHT
END:VTIMEZONE
END:VCALENDAR
