BEGIN:VCALENDAR
VERSION:2.0
PRODID:-//Plone.org//NONSGML plone.app.event//EN
X-WR-TIMEZONE:Europe/Berlin
BEGIN:VEVENT
SUMMARY:Incontro di orientamento matricole a.a. 2018-19
DTSTART;TZID=Europe/Berlin;VALUE=DATE-TIME:20181009T090000
DTSTAMP;VALUE=DATE-TIME:20260423T100509Z
UID:7e0bf37e422c44d58f0ab832ebcd6814@localhost:8109
CREATED;VALUE=DATE-TIME:20220513T134534Z
LAST-MODIFIED;VALUE=DATE-TIME:20220527T100618Z
URL:https://corsi.unife.it/design/eventi/2018/incontro-di-orientamento-mat
 ricole-a-a-2018-19
END:VEVENT
BEGIN:VTIMEZONE
TZID:Europe/Berlin
X-LIC-LOCATION:Europe/Berlin
BEGIN:DAYLIGHT
DTSTART;VALUE=DATE-TIME:20180325T030000
TZNAME:CEST
TZOFFSETFROM:+0100
TZOFFSETTO:+0200
END:DAYLIGHT
END:VTIMEZONE
END:VCALENDAR
