BEGIN:VCALENDAR
VERSION:2.0
PRODID:-//Plone.org//NONSGML plone.app.event//EN
X-WR-TIMEZONE:Europe/Berlin
BEGIN:VEVENT
SUMMARY:Incontro informativo Bando Erasmus+ 2018-19
DTSTART;TZID=Europe/Berlin;VALUE=DATE-TIME:20180206T110000
DTSTAMP;VALUE=DATE-TIME:20260421T011841Z
UID:8f6a57924efa4c97b5288811e07fd7f0@localhost:8109
CREATED;VALUE=DATE-TIME:20220524T095213Z
DESCRIPTION:Incontri informativi di presentazione del Bando Erasmus+ a.a. 
 2018-19
LAST-MODIFIED;VALUE=DATE-TIME:20220610T120031Z
URL:https://corsi.unife.it/design/eventi/2018/incontro-informativo-bando-e
 rasmus-2018-19
END:VEVENT
BEGIN:VTIMEZONE
TZID:Europe/Berlin
X-LIC-LOCATION:Europe/Berlin
BEGIN:STANDARD
DTSTART;VALUE=DATE-TIME:20171029T020000
TZNAME:CET
TZOFFSETFROM:+0200
TZOFFSETTO:+0100
END:STANDARD
END:VTIMEZONE
END:VCALENDAR
