BEGIN:VCALENDAR
VERSION:2.0
PRODID:-//Plone.org//NONSGML plone.app.event//EN
X-WR-TIMEZONE:Europe/Berlin
BEGIN:VEVENT
SUMMARY:Open day online dicembre 2020
DTSTART;VALUE=DATE:20201214
DTEND;VALUE=DATE:20201216
DTSTAMP;VALUE=DATE-TIME:20260421T075328Z
UID:5166b360f0a14657a98aedad1a4b471d@localhost:8109
CREATED;VALUE=DATE-TIME:20220504T132302Z
LAST-MODIFIED;VALUE=DATE-TIME:20220527T100619Z
URL:https://corsi.unife.it/design/eventi/2020/open-day-online-dicembre-202
 0
END:VEVENT
END:VCALENDAR
