BEGIN:VCALENDAR
VERSION:2.0
PRODID:-//Plone.org//NONSGML plone.app.event//EN
X-WR-TIMEZONE:Europe/Berlin
BEGIN:VEVENT
SUMMARY:Open day online dicembre 2021
DTSTART;VALUE=DATE:20211213
DTEND;VALUE=DATE:20211215
DTSTAMP;VALUE=DATE-TIME:20260421T123856Z
UID:dc7d235af5b04d93b1905d0901435607@localhost:8109
CREATED;VALUE=DATE-TIME:20220504T132302Z
LAST-MODIFIED;VALUE=DATE-TIME:20220527T100617Z
URL:https://corsi.unife.it/design/eventi/2021/open-day-online-dicembre-202
 1
END:VEVENT
END:VCALENDAR
