BEGIN:VCALENDAR
VERSION:2.0
PRODID:-//Plone.org//NONSGML plone.app.event//EN
X-WR-TIMEZONE:Europe/Berlin
BEGIN:VEVENT
SUMMARY:Attività fisica e consapevolezza del corpo
DTSTART;TZID=Europe/Berlin;VALUE=DATE-TIME:20221017T153000
DTEND;TZID=Europe/Berlin;VALUE=DATE-TIME:20221017T173000
DTSTAMP;VALUE=DATE-TIME:20260420T145855Z
UID:a88549ae8c2a41c18e02401918d89123@localhost:8109
CREATED;VALUE=DATE-TIME:20221013T080925Z
DESCRIPTION:Laura Trevisani - Master trainer per l’Italia del metodo Gar
 uda
LAST-MODIFIED;VALUE=DATE-TIME:20241108T041940Z
URL:https://corsi.unife.it/design/eventi/2022/attivita-fisica-e-consapevol
 ezza-del-corpo
END:VEVENT
BEGIN:VTIMEZONE
TZID:Europe/Berlin
X-LIC-LOCATION:Europe/Berlin
BEGIN:DAYLIGHT
DTSTART;VALUE=DATE-TIME:20220327T030000
TZNAME:CEST
TZOFFSETFROM:+0100
TZOFFSETTO:+0200
END:DAYLIGHT
END:VTIMEZONE
END:VCALENDAR
