BEGIN:VCALENDAR
VERSION:2.0
PRODID:-//Plone.org//NONSGML plone.app.event//EN
X-WR-TIMEZONE:Europe/Berlin
BEGIN:VEVENT
SUMMARY:Design e fibre naturali
DTSTART;VALUE=DATE:20221020
DTEND;VALUE=DATE:20221022
DTSTAMP;VALUE=DATE-TIME:20260423T135502Z
UID:67dea52205ce47ae9c258ca3aa96607a@localhost:8109
CREATED;VALUE=DATE-TIME:20220929T171310Z
DESCRIPTION:20-21 ottobre 2022 presso Palazzo Tassoni
LAST-MODIFIED;VALUE=DATE-TIME:20221003T125503Z
URL:https://corsi.unife.it/design/eventi/2022/design-e-fibre-naturali
END:VEVENT
END:VCALENDAR
