BEGIN:VCALENDAR
VERSION:2.0
PRODID:-//Plone.org//NONSGML plone.app.event//EN
X-WR-TIMEZONE:Europe/Berlin
BEGIN:VEVENT
SUMMARY:Mostra Openfurnishings
DTSTART;VALUE=DATE:20220521
DTEND;VALUE=DATE:20220523
DTSTAMP;VALUE=DATE-TIME:20260420T042544Z
UID:80dcdf4f78164797a0d8096e19afaa15@localhost:8109
CREATED;VALUE=DATE-TIME:20220512T090456Z
LAST-MODIFIED;VALUE=DATE-TIME:20220610T101246Z
URL:https://corsi.unife.it/design/eventi/2022/mostra-openfurnishings
END:VEVENT
END:VCALENDAR
