BEGIN:VCALENDAR
VERSION:2.0
PRODID:-//Plone.org//NONSGML plone.app.event//EN
X-WR-TIMEZONE:Europe/Berlin
BEGIN:VEVENT
SUMMARY:Open day online dicembre 2022
DTSTART;TZID=Europe/Berlin;VALUE=DATE-TIME:20221213T090000
DTEND;TZID=Europe/Berlin;VALUE=DATE-TIME:20221213T130000
DTSTAMP;VALUE=DATE-TIME:20260424T011545Z
UID:59fbb9fe72184d21929dc83fd6e94870@localhost:8109
CREATED;VALUE=DATE-TIME:20220504T132302Z
LAST-MODIFIED;VALUE=DATE-TIME:20230112T153509Z
URL:https://corsi.unife.it/design/eventi/2022/open-day-online-dicembre-202
 2
END:VEVENT
BEGIN:VTIMEZONE
TZID:Europe/Berlin
X-LIC-LOCATION:Europe/Berlin
BEGIN:STANDARD
DTSTART;VALUE=DATE-TIME:20221030T020000
TZNAME:CET
TZOFFSETFROM:+0200
TZOFFSETTO:+0100
END:STANDARD
END:VTIMEZONE
END:VCALENDAR
