BEGIN:VCALENDAR
VERSION:2.0
PRODID:-//Plone.org//NONSGML plone.app.event//EN
X-WR-TIMEZONE:Europe/Berlin
BEGIN:VEVENT
SUMMARY:Skill Pills - Imprenditorialità giovanile
DTSTART;TZID=Europe/Berlin;VALUE=DATE-TIME:20220504T090000
DTEND;TZID=Europe/Berlin;VALUE=DATE-TIME:20220504T110000
DTSTAMP;VALUE=DATE-TIME:20260423T210929Z
UID:24b2891552e2431294a43766c8f786fd@localhost:8109
CREATED;VALUE=DATE-TIME:20220509T073802Z
LAST-MODIFIED;VALUE=DATE-TIME:20220527T100616Z
URL:https://corsi.unife.it/design/eventi/2022/skill-pills-imprenditorialit
 a-giovanile
END:VEVENT
BEGIN:VTIMEZONE
TZID:Europe/Berlin
X-LIC-LOCATION:Europe/Berlin
BEGIN:DAYLIGHT
DTSTART;VALUE=DATE-TIME:20220327T030000
TZNAME:CEST
TZOFFSETFROM:+0100
TZOFFSETTO:+0200
END:DAYLIGHT
END:VTIMEZONE
END:VCALENDAR
