BEGIN:VCALENDAR
VERSION:2.0
PRODID:-//Plone.org//NONSGML plone.app.event//EN
X-WR-TIMEZONE:Europe/Berlin
BEGIN:VEVENT
SUMMARY:Unife Orienta Summer 2022
DTSTART;VALUE=DATE:20220718
DTEND;VALUE=DATE:20220721
DTSTAMP;VALUE=DATE-TIME:20260420T043528Z
UID:a0b5ba796b5d47ac94b61f1079c87c05@localhost:8109
CREATED;VALUE=DATE-TIME:20220622T134845Z
LAST-MODIFIED;VALUE=DATE-TIME:20241110T063132Z
URL:https://corsi.unife.it/design/eventi/2022/unife-orienta-summer-2022
END:VEVENT
END:VCALENDAR
