BEGIN:VCALENDAR
VERSION:2.0
PRODID:-//Plone.org//NONSGML plone.app.event//EN
X-WR-TIMEZONE:Europe/Berlin
BEGIN:VEVENT
SUMMARY:XXX Trentennale del Dipartimento di Architettura di Ferrara
DTSTART;VALUE=DATE:20220923
DTEND;VALUE=DATE:20221124
DTSTAMP;VALUE=DATE-TIME:20260423T035614Z
UID:882d5df23cb0456e942f1094421902ab@localhost:8109
CREATED;VALUE=DATE-TIME:20220916T120532Z
DESCRIPTION:Programma di celebrazioni dal 23 Settembre al 23 Novembre 2022
LAST-MODIFIED;VALUE=DATE-TIME:20230112T153651Z
URL:https://corsi.unife.it/design/eventi/2022/xxx-trentennale-del-dipartim
 ento-di-architettura-di-ferrara
END:VEVENT
END:VCALENDAR
