BEGIN:VCALENDAR
VERSION:2.0
PRODID:-//Plone.org//NONSGML plone.app.event//EN
X-WR-TIMEZONE:Europe/Berlin
BEGIN:VEVENT
SUMMARY:Costruire storie: Arch. Stefan Rier
DTSTART;TZID=Europe/Berlin;VALUE=DATE-TIME:20231030T150000
DTSTAMP;VALUE=DATE-TIME:20260423T135859Z
UID:0d4c786511494d56a6e020a3e6dfbc5d@localhost:8109
CREATED;VALUE=DATE-TIME:20231025T071428Z
LAST-MODIFIED;VALUE=DATE-TIME:20231025T072424Z
URL:https://corsi.unife.it/design/eventi/2023/costruire-storie-arch-stefan
 -rier
END:VEVENT
BEGIN:VTIMEZONE
TZID:Europe/Berlin
X-LIC-LOCATION:Europe/Berlin
BEGIN:STANDARD
DTSTART;VALUE=DATE-TIME:20231029T020000
TZNAME:CET
TZOFFSETFROM:+0200
TZOFFSETTO:+0100
END:STANDARD
END:VTIMEZONE
END:VCALENDAR
