BEGIN:VCALENDAR
VERSION:2.0
PRODID:-//Plone.org//NONSGML plone.app.event//EN
X-WR-TIMEZONE:Europe/Berlin
BEGIN:VEVENT
SUMMARY:Skill Pills 2023 - Comunicare per immagini
DTSTART;TZID=Europe/Berlin;VALUE=DATE-TIME:20230524T100000
DTEND;TZID=Europe/Berlin;VALUE=DATE-TIME:20230524T130000
DTSTAMP;VALUE=DATE-TIME:20260423T034128Z
UID:ebd96466705a43f385535ff3d41a7806@localhost:8109
CREATED;VALUE=DATE-TIME:20220509T073802Z
LAST-MODIFIED;VALUE=DATE-TIME:20241124T031309Z
URL:https://corsi.unife.it/design/eventi/2023/skill-pills-2023-comunicare-
 per-immagini
END:VEVENT
BEGIN:VTIMEZONE
TZID:Europe/Berlin
X-LIC-LOCATION:Europe/Berlin
BEGIN:DAYLIGHT
DTSTART;VALUE=DATE-TIME:20230326T030000
TZNAME:CEST
TZOFFSETFROM:+0100
TZOFFSETTO:+0200
END:DAYLIGHT
END:VTIMEZONE
END:VCALENDAR
