BEGIN:VCALENDAR
VERSION:2.0
PRODID:-//Plone.org//NONSGML plone.app.event//EN
X-WR-TIMEZONE:Europe/Berlin
BEGIN:VEVENT
SUMMARY:Togetherness interior design e nuova socialità
DTSTART;TZID=Europe/Berlin;VALUE=DATE-TIME:20231113T093000
DTSTAMP;VALUE=DATE-TIME:20260422T231817Z
UID:a3e02900782b4d2184d694edb76f87c7@localhost:8109
CREATED;VALUE=DATE-TIME:20231111T031927Z
LAST-MODIFIED;VALUE=DATE-TIME:20231111T034336Z
URL:https://corsi.unife.it/design/eventi/2023/togetherness-interior-design
 -e-nuova-socialita
END:VEVENT
BEGIN:VTIMEZONE
TZID:Europe/Berlin
X-LIC-LOCATION:Europe/Berlin
BEGIN:STANDARD
DTSTART;VALUE=DATE-TIME:20231029T020000
TZNAME:CET
TZOFFSETFROM:+0200
TZOFFSETTO:+0100
END:STANDARD
END:VTIMEZONE
END:VCALENDAR
