BEGIN:VCALENDAR
VERSION:2.0
PRODID:-//Plone.org//NONSGML plone.app.event//EN
X-WR-TIMEZONE:Europe/Berlin
BEGIN:VEVENT
SUMMARY:Cineforum
DTSTART;TZID=Europe/Berlin;VALUE=DATE-TIME:20240415T173000
DTEND;TZID=Europe/Berlin;VALUE=DATE-TIME:20240415T190000
DTSTAMP;VALUE=DATE-TIME:20260422T230530Z
UID:825674a2153b4260a65d5a389f41e324@localhost:8109
CREATED;VALUE=DATE-TIME:20240411T063928Z
LAST-MODIFIED;VALUE=DATE-TIME:20241216T041907Z
URL:https://corsi.unife.it/design/eventi/2024/cineforum
END:VEVENT
BEGIN:VTIMEZONE
TZID:Europe/Berlin
X-LIC-LOCATION:Europe/Berlin
BEGIN:DAYLIGHT
DTSTART;VALUE=DATE-TIME:20240331T030000
TZNAME:CEST
TZOFFSETFROM:+0100
TZOFFSETTO:+0200
END:DAYLIGHT
END:VTIMEZONE
END:VCALENDAR
