BEGIN:VCALENDAR
VERSION:2.0
PRODID:-//Plone.org//NONSGML plone.app.event//EN
X-WR-TIMEZONE:Europe/Berlin
BEGIN:VEVENT
SUMMARY:Creare elementi per uno spazio pubblico
DTSTART;TZID=Europe/Berlin;VALUE=DATE-TIME:20241111T093000
DTEND;TZID=Europe/Berlin;VALUE=DATE-TIME:20241111T130000
DTSTAMP;VALUE=DATE-TIME:20260420T043902Z
UID:eb6db7a366744e14a94d87220b289a41@localhost:8109
CREATED;VALUE=DATE-TIME:20241106T162600Z
LAST-MODIFIED;VALUE=DATE-TIME:20241108T031731Z
URL:https://corsi.unife.it/design/eventi/2024/creare-elementi-per-uno-spaz
 io-pubblico
END:VEVENT
BEGIN:VTIMEZONE
TZID:Europe/Berlin
X-LIC-LOCATION:Europe/Berlin
BEGIN:STANDARD
DTSTART;VALUE=DATE-TIME:20241027T020000
TZNAME:CET
TZOFFSETFROM:+0200
TZOFFSETTO:+0100
END:STANDARD
END:VTIMEZONE
END:VCALENDAR
