BEGIN:VCALENDAR
VERSION:2.0
PRODID:-//Plone.org//NONSGML plone.app.event//EN
X-WR-TIMEZONE:Europe/Berlin
BEGIN:VEVENT
SUMMARY:Open day giugno 2024
DTSTART;TZID=Europe/Berlin;VALUE=DATE-TIME:20240610T090000
DTEND;TZID=Europe/Berlin;VALUE=DATE-TIME:20240611T130000
DTSTAMP;VALUE=DATE-TIME:20260422T230829Z
UID:a728cd5f4fd74fc1a7d843a1c43ae240@localhost:8109
CREATED;VALUE=DATE-TIME:20230130T083937Z
LAST-MODIFIED;VALUE=DATE-TIME:20240422T073743Z
URL:https://corsi.unife.it/design/eventi/2024/open-day-giugno-2024
END:VEVENT
BEGIN:VTIMEZONE
TZID:Europe/Berlin
X-LIC-LOCATION:Europe/Berlin
BEGIN:DAYLIGHT
DTSTART;VALUE=DATE-TIME:20240331T030000
TZNAME:CEST
TZOFFSETFROM:+0100
TZOFFSETTO:+0200
END:DAYLIGHT
END:VTIMEZONE
END:VCALENDAR
