BEGIN:VCALENDAR
VERSION:2.0
PRODID:-//Plone.org//NONSGML plone.app.event//EN
X-WR-TIMEZONE:Europe/Berlin
BEGIN:VEVENT
SUMMARY:Workshop - Proposta per lavorare a mano la ceramica
DTSTART;TZID=Europe/Berlin;VALUE=DATE-TIME:20240529T093000
DTEND;TZID=Europe/Berlin;VALUE=DATE-TIME:20240529T170000
DTSTAMP;VALUE=DATE-TIME:20260420T113714Z
UID:b9d791fcac234902bf0c0e890fe7bd14@localhost:8109
CREATED;VALUE=DATE-TIME:20240521T121045Z
LAST-MODIFIED;VALUE=DATE-TIME:20240521T131152Z
URL:https://corsi.unife.it/design/eventi/2024/workshop-ceramica
END:VEVENT
BEGIN:VTIMEZONE
TZID:Europe/Berlin
X-LIC-LOCATION:Europe/Berlin
BEGIN:DAYLIGHT
DTSTART;VALUE=DATE-TIME:20240331T030000
TZNAME:CEST
TZOFFSETFROM:+0100
TZOFFSETTO:+0200
END:DAYLIGHT
END:VTIMEZONE
END:VCALENDAR
