BEGIN:VCALENDAR
VERSION:2.0
PRODID:-//Plone.org//NONSGML plone.app.event//EN
X-WR-TIMEZONE:Europe/Berlin
BEGIN:VEVENT
SUMMARY:Il racconto dei beni culturali
DTSTART;TZID=Europe/Berlin;VALUE=DATE-TIME:20260304T093000
DTEND;TZID=Europe/Berlin;VALUE=DATE-TIME:20260304T163000
DTSTAMP;VALUE=DATE-TIME:20260423T100509Z
UID:26739dbbefca4273a1cd72037a0ecc2a@localhost:8109
CREATED;VALUE=DATE-TIME:20260216T133949Z
LAST-MODIFIED;VALUE=DATE-TIME:20260226T095024Z
URL:https://corsi.unife.it/design/eventi/2026/il-racconto-dei-beni-cultura
 li
END:VEVENT
BEGIN:VTIMEZONE
TZID:Europe/Berlin
X-LIC-LOCATION:Europe/Berlin
BEGIN:STANDARD
DTSTART;VALUE=DATE-TIME:20251026T020000
TZNAME:CET
TZOFFSETFROM:+0200
TZOFFSETTO:+0100
END:STANDARD
END:VTIMEZONE
END:VCALENDAR
