BEGIN:VCALENDAR
VERSION:2.0
PRODID:-//Plone.org//NONSGML plone.app.event//EN
X-WR-TIMEZONE:Europe/Berlin
BEGIN:VEVENT
SUMMARY:Incontro di orientamento in itinere e in uscita sui tirocini e lau
 rea
DTSTART;TZID=Europe/Berlin;VALUE=DATE-TIME:20260226T140000
DTEND;TZID=Europe/Berlin;VALUE=DATE-TIME:20260226T160000
DTSTAMP;VALUE=DATE-TIME:20260422T165635Z
UID:9674012ad3d94582a624eb9ee9818038@localhost:8109
CATEGORIES:lt design del prodotto industriale
CREATED;VALUE=DATE-TIME:20260213T145038Z
LAST-MODIFIED;VALUE=DATE-TIME:20260224T095546Z
URL:https://corsi.unife.it/design/eventi/2026/incontro-di-orientamento-in-
 itinere-e-in-uscita-sui-tirocini-e-laurea
END:VEVENT
BEGIN:VTIMEZONE
TZID:Europe/Berlin
X-LIC-LOCATION:Europe/Berlin
BEGIN:STANDARD
DTSTART;VALUE=DATE-TIME:20251026T020000
TZNAME:CET
TZOFFSETFROM:+0200
TZOFFSETTO:+0100
END:STANDARD
END:VTIMEZONE
END:VCALENDAR
