BEGIN:VCALENDAR
VERSION:2.0
PRODID:-//Plone.org//NONSGML plone.app.event//EN
X-WR-TIMEZONE:Europe/Berlin
BEGIN:VEVENT
SUMMARY:Incontro informativo vincitori  Bando Erasmus+ 2019-20
DTSTART;TZID=Europe/Berlin;VALUE=DATE-TIME:20190517T090000
DTSTAMP;VALUE=DATE-TIME:20260422T165640Z
UID:72fb599fc87e47328b958d6efd57aa26@localhost:8109
CREATED;VALUE=DATE-TIME:20220524T095213Z
DESCRIPTION:Rivolto agli assegnatari delle sedi Erasmus+ per studio 2019-2
 0
LAST-MODIFIED;VALUE=DATE-TIME:20231006T135914Z
URL:https://corsi.unife.it/lm-architettura/eventi/2019/incontro-vincitori-
 erasmus-2019-20
END:VEVENT
BEGIN:VTIMEZONE
TZID:Europe/Berlin
X-LIC-LOCATION:Europe/Berlin
BEGIN:DAYLIGHT
DTSTART;VALUE=DATE-TIME:20190331T030000
TZNAME:CEST
TZOFFSETFROM:+0100
TZOFFSETTO:+0200
END:DAYLIGHT
END:VTIMEZONE
END:VCALENDAR
