BEGIN:VCALENDAR
VERSION:2.0
PRODID:-//Plone.org//NONSGML plone.app.event//EN
X-WR-TIMEZONE:Europe/Berlin
BEGIN:VEVENT
SUMMARY:Job Placement Event | Vesta
DTSTART;TZID=Europe/Berlin;VALUE=DATE-TIME:20200207T093000
DTEND;TZID=Europe/Berlin;VALUE=DATE-TIME:20200207T103000
DTSTAMP;VALUE=DATE-TIME:20260422T061703Z
UID:1de02d55916c4c209f8ad55c67e961a5@localhost:8109
CREATED;VALUE=DATE-TIME:20220609T144136Z
LAST-MODIFIED;VALUE=DATE-TIME:20231006T135915Z
URL:https://corsi.unife.it/lm-architettura/eventi/2020/job-placement-event
 -vesta
END:VEVENT
BEGIN:VTIMEZONE
TZID:Europe/Berlin
X-LIC-LOCATION:Europe/Berlin
BEGIN:STANDARD
DTSTART;VALUE=DATE-TIME:20191027T020000
TZNAME:CET
TZOFFSETFROM:+0200
TZOFFSETTO:+0100
END:STANDARD
END:VTIMEZONE
END:VCALENDAR
