BEGIN:VCALENDAR
VERSION:2.0
PRODID:-//Plone.org//NONSGML plone.app.event//EN
X-WR-TIMEZONE:Europe/Berlin
BEGIN:VEVENT
SUMMARY:Il cantiere in aula
DTSTART;VALUE=DATE:20221115
DTEND;VALUE=DATE:20221118
DTSTAMP;VALUE=DATE-TIME:20260422T165646Z
UID:c9055abb56f647b28e171001fddc70fc@localhost:8109
CREATED;VALUE=DATE-TIME:20250325T102602Z
DESCRIPTION:Il cantiere in aula: incontro tecnico organizzato nell'ambito 
 dell’iniziativa “Cantiere in aula”
LAST-MODIFIED;VALUE=DATE-TIME:20251119T165414Z
URL:https://corsi.unife.it/lm-architettura/eventi/2022/il-cantiere-in-aula
END:VEVENT
END:VCALENDAR
