BEGIN:VCALENDAR
VERSION:2.0
PRODID:-//Plone.org//NONSGML plone.app.event//EN
X-WR-TIMEZONE:Europe/Berlin
BEGIN:VEVENT
SUMMARY:Giornate del Restauro e del Patrimonio Culturale
DTSTART;VALUE=DATE:20230329
DTEND;VALUE=DATE:20230401
DTSTAMP;VALUE=DATE-TIME:20260423T232459Z
UID:6dcef0cd28cf43009ac3e5e4e4c46425@localhost:8109
CATEGORIES:lm-architettura
CREATED;VALUE=DATE-TIME:20230929T171201Z
DESCRIPTION:V edizione 29-31 Marzo 2023
LAST-MODIFIED;VALUE=DATE-TIME:20231006T135910Z
URL:https://corsi.unife.it/lm-architettura/eventi/2023/giornate-del-restau
 ro-e-del-patrimonio-culturale
END:VEVENT
END:VCALENDAR
