BEGIN:VCALENDAR
VERSION:2.0
PRODID:-//Plone.org//NONSGML plone.app.event//EN
X-WR-TIMEZONE:Europe/Berlin
BEGIN:VEVENT
SUMMARY:Incontro matricole e assicurazione qualità 2023-24
DTSTART;TZID=Europe/Berlin;VALUE=DATE-TIME:20231009T090000
DTEND;TZID=Europe/Berlin;VALUE=DATE-TIME:20231009T130000
DTSTAMP;VALUE=DATE-TIME:20260422T212536Z
UID:24a9976c2e694cb2ac13947b7e987187@localhost:8109
CREATED;VALUE=DATE-TIME:20231006T035155Z
LAST-MODIFIED;VALUE=DATE-TIME:20251126T162938Z
URL:https://corsi.unife.it/lm-architettura/eventi/2023/incontro-di-orienta
 mento-matricole-e-assicurazione-qualita-2023-24
END:VEVENT
BEGIN:VTIMEZONE
TZID:Europe/Berlin
X-LIC-LOCATION:Europe/Berlin
BEGIN:DAYLIGHT
DTSTART;VALUE=DATE-TIME:20230326T030000
TZNAME:CEST
TZOFFSETFROM:+0100
TZOFFSETTO:+0200
END:DAYLIGHT
END:VTIMEZONE
END:VCALENDAR
