BEGIN:VCALENDAR
VERSION:2.0
PRODID:-//Plone.org//NONSGML plone.app.event//EN
X-WR-TIMEZONE:Europe/Berlin
BEGIN:VEVENT
SUMMARY:Incontro informativo per assegnatari/e del Bando Erasmus+ 2023-24
DTSTART;TZID=Europe/Berlin;VALUE=DATE-TIME:20230418T130000
DTEND;TZID=Europe/Berlin;VALUE=DATE-TIME:20230418T140000
DTSTAMP;VALUE=DATE-TIME:20260423T073356Z
UID:ab9af1e67be341208d501b259146e343@localhost:8109
CREATED;VALUE=DATE-TIME:20220524T095213Z
DESCRIPTION:Rivolto agli studenti e alle studentesse assegnatarie del sogg
 iorno Erasmus+ 2023-24
LAST-MODIFIED;VALUE=DATE-TIME:20251127T050023Z
URL:https://corsi.unife.it/lm-architettura/eventi/2023/incontro-informativ
 o-assegnatari-bando-erasmus-2023-24
END:VEVENT
BEGIN:VTIMEZONE
TZID:Europe/Berlin
X-LIC-LOCATION:Europe/Berlin
BEGIN:DAYLIGHT
DTSTART;VALUE=DATE-TIME:20230326T030000
TZNAME:CEST
TZOFFSETFROM:+0100
TZOFFSETTO:+0200
END:DAYLIGHT
END:VTIMEZONE
END:VCALENDAR
