BEGIN:VCALENDAR
VERSION:2.0
PRODID:-//Plone.org//NONSGML plone.app.event//EN
X-WR-TIMEZONE:Europe/Berlin
BEGIN:VEVENT
SUMMARY:Mostra\, presentazione e discussione dei progetti elaborati dagli 
 studenti del Laboratorio di Costruzione dell'Architettura 2 del Corso di S
 tudi in Architettura
DTSTART;VALUE=DATE:20231014
DTEND;VALUE=DATE:20231123
DTSTAMP;VALUE=DATE-TIME:20260424T010856Z
UID:56368c3719e44d869eaa6bc1849dd91c@localhost:8109
CREATED;VALUE=DATE-TIME:20250401T085431Z
DESCRIPTION:Mostra\, presentazione e discussione dei progetti elaborati da
 gli studenti del Laboratorio di Costruzione dell'Architettura 2 del Corso 
 di Studi in Architettura\, III edizione.
LAST-MODIFIED;VALUE=DATE-TIME:20251128T071521Z
URL:https://corsi.unife.it/lm-architettura/eventi/2023/mostra-presentazion
 e-e-discussione-dei-progetti-elaborati-dagli-studenti-del-laboratorio-di-c
 ostruzione-dellarchitettura-2-del-corso-di-studi-in-architettura
END:VEVENT
END:VCALENDAR
