BEGIN:VCALENDAR
VERSION:2.0
PRODID:-//Plone.org//NONSGML plone.app.event//EN
X-WR-TIMEZONE:Europe/Berlin
BEGIN:VEVENT
SUMMARY:Incontro informativo Bando Eramsus+ Studio 2024-25
DTSTART;TZID=Europe/Berlin;VALUE=DATE-TIME:20240131T120000
DTSTAMP;VALUE=DATE-TIME:20260423T100519Z
UID:0abae60614c34c81b7016f4fd983117f@localhost:8109
CREATED;VALUE=DATE-TIME:20240112T122622Z
LAST-MODIFIED;VALUE=DATE-TIME:20251126T163402Z
URL:https://corsi.unife.it/lm-architettura/eventi/2024/incontro-bando-eram
 sus-studio-2024-25
END:VEVENT
BEGIN:VTIMEZONE
TZID:Europe/Berlin
X-LIC-LOCATION:Europe/Berlin
BEGIN:STANDARD
DTSTART;VALUE=DATE-TIME:20231029T020000
TZNAME:CET
TZOFFSETFROM:+0200
TZOFFSETTO:+0100
END:STANDARD
END:VTIMEZONE
END:VCALENDAR
