BEGIN:VCALENDAR
VERSION:2.0
PRODID:-//Plone.org//NONSGML plone.app.event//EN
X-WR-TIMEZONE:Europe/Berlin
BEGIN:VEVENT
SUMMARY:Scopri i corsi post-laurea del Dipartimento di Architettura di Uni
 fe al Salone Internazionale del Restauro 2024
DTSTART;VALUE=DATE:20240515
DTEND;VALUE=DATE:20240518
DTSTAMP;VALUE=DATE-TIME:20260422T165806Z
UID:31c77ce4d2894df6a7089ae92684ea5e@localhost:8109
CREATED;VALUE=DATE-TIME:20240514T124028Z
LAST-MODIFIED;VALUE=DATE-TIME:20240514T125126Z
URL:https://corsi.unife.it/lm-architettura/eventi/2024/scopri-i-corsi-post
 -laurea-salone-internazionale-del-restauro-2024
END:VEVENT
END:VCALENDAR
