BEGIN:VCALENDAR
VERSION:2.0
PRODID:-//Plone.org//NONSGML plone.app.event//EN
X-WR-TIMEZONE:Europe/Berlin
BEGIN:VEVENT
SUMMARY:Opportunità di tirocini curriculari presso la Camera dei Deputati
DTSTART;TZID=Europe/Berlin;VALUE=DATE-TIME:20250729T090000
DTEND;TZID=Europe/Berlin;VALUE=DATE-TIME:20250915T120000
DTSTAMP;VALUE=DATE-TIME:20260422T165806Z
UID:6543631d3cf946e6bffa7fff4e4e9c9d@localhost:8109
CREATED;VALUE=DATE-TIME:20250729T121030Z
DESCRIPTION:Bando di selezione per l'attivazione di 6 tirocini curricola
 ri presso la Camera dei Deputati.
LAST-MODIFIED;VALUE=DATE-TIME:20250729T121119Z
URL:https://corsi.unife.it/lm-architettura/eventi/2025/opportunita-di-tiro
 cini-curriculari-presso-la-camera-dei-deputati
END:VEVENT
BEGIN:VTIMEZONE
TZID:Europe/Berlin
X-LIC-LOCATION:Europe/Berlin
BEGIN:DAYLIGHT
DTSTART;VALUE=DATE-TIME:20250330T030000
TZNAME:CEST
TZOFFSETFROM:+0100
TZOFFSETTO:+0200
END:DAYLIGHT
END:VTIMEZONE
END:VCALENDAR
