BEGIN:VCALENDAR
VERSION:2.0
PRODID:-//Plone.org//NONSGML plone.app.event//EN
X-WR-TIMEZONE:Europe/Berlin
BEGIN:VEVENT
SUMMARY:BANDO ERASMUS+ STUDIO 2026/2027 - RIUNIONE INFORMATIVA ONLINE
DTSTART;TZID=Europe/Berlin;VALUE=DATE-TIME:20260129T110000
DTSTAMP;VALUE=DATE-TIME:20260422T165635Z
UID:50ec35e013694a238c39894fa620340f@localhost:8109
CATEGORIES:architettura
CREATED;VALUE=DATE-TIME:20260119T130445Z
LAST-MODIFIED;VALUE=DATE-TIME:20260224T095754Z
URL:https://corsi.unife.it/lm-architettura/eventi/2026/bando-erasmus-studi
 o-2026-2027-riunione-informativa-online
END:VEVENT
BEGIN:VTIMEZONE
TZID:Europe/Berlin
X-LIC-LOCATION:Europe/Berlin
BEGIN:STANDARD
DTSTART;VALUE=DATE-TIME:20251026T020000
TZNAME:CET
TZOFFSETFROM:+0200
TZOFFSETTO:+0100
END:STANDARD
END:VTIMEZONE
END:VCALENDAR
