BEGIN:VCALENDAR
VERSION:2.0
PRODID:-//Plone.org//NONSGML plone.app.event//EN
X-WR-TIMEZONE:Europe/Berlin
BEGIN:VEVENT
SUMMARY:Open day 17 e 30 marzo 2026
DTSTART;TZID=Europe/Berlin;VALUE=DATE-TIME:20260317T090000
DTSTAMP;VALUE=DATE-TIME:20260422T061703Z
UID:6088cdaec93241a3ac53f071bc897c93@localhost:8109
CATEGORIES:architettura
CREATED;VALUE=DATE-TIME:20260211T102857Z
LAST-MODIFIED;VALUE=DATE-TIME:20260415T112835Z
URL:https://corsi.unife.it/lm-architettura/eventi/2026/open-day-17-e-30-ma
 rzo-2026
END:VEVENT
BEGIN:VTIMEZONE
TZID:Europe/Berlin
X-LIC-LOCATION:Europe/Berlin
BEGIN:STANDARD
DTSTART;VALUE=DATE-TIME:20251026T020000
TZNAME:CET
TZOFFSETFROM:+0200
TZOFFSETTO:+0100
END:STANDARD
END:VTIMEZONE
END:VCALENDAR
