BEGIN:VCALENDAR
VERSION:2.0
PRODID:-//Plone.org//NONSGML plone.app.event//EN
X-WR-TIMEZONE:Europe/Berlin
BEGIN:VEVENT
SUMMARY:Orientamento tirocini e al mondo del lavoro: 11 febbraio 2026
DTSTART;TZID=Europe/Berlin;VALUE=DATE-TIME:20260211T091500
DTSTAMP;VALUE=DATE-TIME:20260422T212536Z
UID:4a95a6d39f854cf3a83789004ac295e6@localhost:8109
CATEGORIES:architettura
CREATED;VALUE=DATE-TIME:20260114T081414Z
LAST-MODIFIED;VALUE=DATE-TIME:20260224T095733Z
URL:https://corsi.unife.it/lm-architettura/eventi/2026/orientamento-tiroci
 ni-e-al-mondo-del-lavoro-11-febbraio-2026
END:VEVENT
BEGIN:VTIMEZONE
TZID:Europe/Berlin
X-LIC-LOCATION:Europe/Berlin
BEGIN:STANDARD
DTSTART;VALUE=DATE-TIME:20251026T020000
TZNAME:CET
TZOFFSETFROM:+0200
TZOFFSETTO:+0100
END:STANDARD
END:VTIMEZONE
END:VCALENDAR
