BEGIN:VCALENDAR
VERSION:2.0
PRODID:-//Plone.org//NONSGML plone.app.event//EN
X-WR-TIMEZONE:Europe/Berlin
BEGIN:VEVENT
SUMMARY:Presentazione della nuova Laurea magistrale Design di prodotto e s
 ervizio per la cultura e la salute
DTSTART;VALUE=DATE:20250604
DTEND;VALUE=DATE:20250605
DTSTAMP;VALUE=DATE-TIME:20260422T165750Z
UID:83f6da06d4a443cd925eb2826c4707a4@localhost:8109
CREATED;VALUE=DATE-TIME:20250604T143823Z
LAST-MODIFIED;VALUE=DATE-TIME:20250605T091110Z
URL:https://corsi.unife.it/lm-design-prodotto-servizio/eventi/2025/present
 azione-della-nuova-laurea-magistrale-design-di-prodotto-e-servizio-per-la-
 cultura-e-la-salute
END:VEVENT
END:VCALENDAR
