BEGIN:VCALENDAR
VERSION:2.0
PRODID:-//Plone.org//NONSGML plone.app.event//EN
X-WR-TIMEZONE:Europe/Berlin
BEGIN:VEVENT
SUMMARY:Incontro Fare Design - Giovedì 30 aprile- 15:00/17:30
DTSTART;TZID=Europe/Berlin;VALUE=DATE-TIME:20260430T150000
DTEND;TZID=Europe/Berlin;VALUE=DATE-TIME:20260430T173000
DTSTAMP;VALUE=DATE-TIME:20260420T143350Z
UID:26d82b6b54904b328a55e6253f2ce362@localhost:8109
CATEGORIES:lm-design-prodotto-servizio
CREATED;VALUE=DATE-TIME:20260420T073728Z
LAST-MODIFIED;VALUE=DATE-TIME:20260420T081903Z
URL:https://corsi.unife.it/lm-design-prodotto-servizio/eventi/2026/incontr
 o-fare-design-giovedi-30-aprile-15-00-17-30
END:VEVENT
BEGIN:VTIMEZONE
TZID:Europe/Berlin
X-LIC-LOCATION:Europe/Berlin
BEGIN:DAYLIGHT
DTSTART;VALUE=DATE-TIME:20260329T030000
TZNAME:CEST
TZOFFSETFROM:+0100
TZOFFSETTO:+0200
END:DAYLIGHT
END:VTIMEZONE
END:VCALENDAR
