BEGIN:VCALENDAR
VERSION:2.0
PRODID:-//Plone.org//NONSGML plone.app.event//EN
X-WR-TIMEZONE:Europe/Berlin
BEGIN:VEVENT
SUMMARY:Scienza in pellicola | Settima proiezione "Blade Runner"
DTSTART;TZID=Europe/Berlin;VALUE=DATE-TIME:20260224T180000
DTEND;TZID=Europe/Berlin;VALUE=DATE-TIME:20260224T210000
DTSTAMP;VALUE=DATE-TIME:20260422T212537Z
UID:1a9ebba1befa4eca84d2568c77bc422e@localhost:8109
CATEGORIES:lm design
CREATED;VALUE=DATE-TIME:20260218T125152Z
LAST-MODIFIED;VALUE=DATE-TIME:20260219T080820Z
URL:https://corsi.unife.it/lm-design-prodotto-servizio/eventi/2026/scienza
 -in-pellicola-settima-proiezione-blade-runner
END:VEVENT
BEGIN:VTIMEZONE
TZID:Europe/Berlin
X-LIC-LOCATION:Europe/Berlin
BEGIN:STANDARD
DTSTART;VALUE=DATE-TIME:20251026T020000
TZNAME:CET
TZOFFSETFROM:+0200
TZOFFSETTO:+0100
END:STANDARD
END:VTIMEZONE
END:VCALENDAR
