BEGIN:VCALENDAR
VERSION:2.0
PRODID:-//Plone.org//NONSGML plone.app.event//EN
X-WR-TIMEZONE:Europe/Berlin
BEGIN:VEVENT
SUMMARY:6° Edizione: Commissione c. Ungheria (C-769/22)
DTSTART;TZID=Europe/Berlin;VALUE=DATE-TIME:20250613T150000
DTSTAMP;VALUE=DATE-TIME:20260420T045455Z
UID:b88d259099a84c7fae8c86cf5b84d76b@localhost:8109
CREATED;VALUE=DATE-TIME:20230126T145209Z
DESCRIPTION:a.a. 2024/25
LAST-MODIFIED;VALUE=DATE-TIME:20250626T085015Z
URL:https://corsi.unife.it/lm-giurisprudenza-rovigo/studiare/eu-law-moot-c
 ourt-competition/edizioni-precedenti/commissione_ungheria
END:VEVENT
BEGIN:VTIMEZONE
TZID:Europe/Berlin
X-LIC-LOCATION:Europe/Berlin
BEGIN:DAYLIGHT
DTSTART;VALUE=DATE-TIME:20250330T030000
TZNAME:CEST
TZOFFSETFROM:+0100
TZOFFSETTO:+0200
END:DAYLIGHT
END:VTIMEZONE
END:VCALENDAR
