BEGIN:VCALENDAR
VERSION:2.0
PRODID:-//Plone.org//NONSGML plone.app.event//EN
X-WR-TIMEZONE:Europe/Berlin
BEGIN:VEVENT
SUMMARY:3° Edizione: Il regolamento condizionalità
DTSTART;TZID=Europe/Berlin;VALUE=DATE-TIME:20211119T120000
DTSTAMP;VALUE=DATE-TIME:20260421T191531Z
UID:d8fc56e60d374ea5a1a5ce798689dba6@localhost:8109
CREATED;VALUE=DATE-TIME:20230126T110515Z
DESCRIPTION:a.a. 2021/22
LAST-MODIFIED;VALUE=DATE-TIME:20240704T073920Z
URL:https://corsi.unife.it/lm-giurisprudenza/studiare/didattica/eu-law-moo
 t-court-competition/edizioni-precedenti/3-edizione-il-regolamento-condizio
 nalita
END:VEVENT
BEGIN:VTIMEZONE
TZID:Europe/Berlin
X-LIC-LOCATION:Europe/Berlin
BEGIN:STANDARD
DTSTART;VALUE=DATE-TIME:20211031T020000
TZNAME:CET
TZOFFSETFROM:+0200
TZOFFSETTO:+0100
END:STANDARD
END:VTIMEZONE
END:VCALENDAR
