BEGIN:VCALENDAR
VERSION:2.0
PRODID:-//Plone.org//NONSGML plone.app.event//EN
X-WR-TIMEZONE:Europe/Berlin
BEGIN:VEVENT
SUMMARY:4° Edizione: PNRR e Stato di diritto
DTSTART;TZID=Europe/Berlin;VALUE=DATE-TIME:20221104T150000
DTSTAMP;VALUE=DATE-TIME:20260423T100519Z
UID:ac66bb89ac984b35a672571a3955f74e@localhost:8109
CREATED;VALUE=DATE-TIME:20230126T145209Z
DESCRIPTION:a.a. 2022/23
LAST-MODIFIED;VALUE=DATE-TIME:20240704T073920Z
URL:https://corsi.unife.it/lm-giurisprudenza/studiare/didattica/eu-law-moo
 t-court-competition/edizioni-precedenti/pnrr-della-polonia
END:VEVENT
BEGIN:VTIMEZONE
TZID:Europe/Berlin
X-LIC-LOCATION:Europe/Berlin
BEGIN:STANDARD
DTSTART;VALUE=DATE-TIME:20221030T020000
TZNAME:CET
TZOFFSETFROM:+0200
TZOFFSETTO:+0100
END:STANDARD
END:VTIMEZONE
END:VCALENDAR
