BEGIN:VCALENDAR
VERSION:2.0
PRODID:-//Plone.org//NONSGML plone.app.event//EN
X-WR-TIMEZONE:Europe/Berlin
BEGIN:VEVENT
SUMMARY:Seminari MateDì: secondo incontro
DTSTART;TZID=Europe/Berlin;VALUE=DATE-TIME:20251028T173000
DTSTAMP;VALUE=DATE-TIME:20260422T165641Z
UID:49b1114a90224a4ca31bc7e61209872f@localhost:8109
CATEGORIES:lm-matematica
CREATED;VALUE=DATE-TIME:20251103T134850Z
LAST-MODIFIED;VALUE=DATE-TIME:20251103T134856Z
URL:https://corsi.unife.it/lm-matematica/eventi-1/eventi-di-orientamento-1
 /seminari-matedi-secondo-incontro
END:VEVENT
BEGIN:VTIMEZONE
TZID:Europe/Berlin
X-LIC-LOCATION:Europe/Berlin
BEGIN:STANDARD
DTSTART;VALUE=DATE-TIME:20251026T020000
TZNAME:CET
TZOFFSETFROM:+0200
TZOFFSETTO:+0100
END:STANDARD
END:VTIMEZONE
END:VCALENDAR
