BEGIN:VCALENDAR
VERSION:2.0
PRODID:-//Plone.org//NONSGML plone.app.event//EN
X-WR-TIMEZONE:Europe/Berlin
BEGIN:VEVENT
SUMMARY:Save the Date: MATH@WORK 2026
DTSTART;TZID=Europe/Berlin;VALUE=DATE-TIME:20260415T140000
DTSTAMP;VALUE=DATE-TIME:20260422T212056Z
UID:e882c382deb14a19876c2886f547c81e@localhost:8109
CATEGORIES:lm-matematica
CREATED;VALUE=DATE-TIME:20260202T132913Z
LAST-MODIFIED;VALUE=DATE-TIME:20260327T113057Z
URL:https://corsi.unife.it/lm-matematica/eventi-1/eventi-placement/save-th
 e-date-math-work-2026
END:VEVENT
BEGIN:VTIMEZONE
TZID:Europe/Berlin
X-LIC-LOCATION:Europe/Berlin
BEGIN:DAYLIGHT
DTSTART;VALUE=DATE-TIME:20260329T030000
TZNAME:CEST
TZOFFSETFROM:+0100
TZOFFSETTO:+0200
END:DAYLIGHT
END:VTIMEZONE
END:VCALENDAR
