BEGIN:VCALENDAR
VERSION:2.0
PRODID:-//Plone.org//NONSGML plone.app.event//EN
X-WR-TIMEZONE:Europe/Berlin
BEGIN:VEVENT
SUMMARY:MATH@WORK e MATH4JOB
DTSTART;VALUE=DATE:20240524
DTEND;VALUE=DATE:20240525
DTSTAMP;VALUE=DATE-TIME:20260421T231448Z
UID:7d747689b2204291bce854a7c373dbb8@localhost:8109
CATEGORIES:matematica
CREATED;VALUE=DATE-TIME:20240411T075844Z
LAST-MODIFIED;VALUE=DATE-TIME:20240418T101123Z
URL:https://corsi.unife.it/matematica/eventi-1/2024/quarto-evento
END:VEVENT
END:VCALENDAR
