BEGIN:VCALENDAR
VERSION:2.0
PRODID:-//Plone.org//NONSGML plone.app.event//EN
X-WR-TIMEZONE:Europe/Berlin
BEGIN:VEVENT
SUMMARY:PRIMO OPEN DAY 2026
DTSTART;TZID=Europe/Berlin;VALUE=DATE-TIME:20260325T150000
DTSTAMP;VALUE=DATE-TIME:20260423T100247Z
UID:6cf14c9fee2740c08ab0232da5e22bca@localhost:8109
CATEGORIES:matematica
CREATED;VALUE=DATE-TIME:20251110T114347Z
LAST-MODIFIED;VALUE=DATE-TIME:20251110T124905Z
URL:https://corsi.unife.it/matematica/eventi-1/eventi-di-orientamento-1/pr
 imo-open-day
END:VEVENT
BEGIN:VTIMEZONE
TZID:Europe/Berlin
X-LIC-LOCATION:Europe/Berlin
BEGIN:STANDARD
DTSTART;VALUE=DATE-TIME:20251026T020000
TZNAME:CET
TZOFFSETFROM:+0200
TZOFFSETTO:+0100
END:STANDARD
END:VTIMEZONE
END:VCALENDAR
