BEGIN:VCALENDAR
VERSION:2.0
PRODID:-//Plone.org//NONSGML plone.app.event//EN
X-WR-TIMEZONE:Europe/Berlin
BEGIN:VEVENT
SUMMARY:SECONDO OPEN DAY 2026
DTSTART;TZID=Europe/Berlin;VALUE=DATE-TIME:20260421T150000
DTSTAMP;VALUE=DATE-TIME:20260423T034012Z
UID:e16df5d6ac53413c8272698a39084807@localhost:8109
CATEGORIES:matematica
CREATED;VALUE=DATE-TIME:20251110T114531Z
LAST-MODIFIED;VALUE=DATE-TIME:20251110T124843Z
URL:https://corsi.unife.it/matematica/eventi-1/eventi-di-orientamento-1/se
 condo-open-day
END:VEVENT
BEGIN:VTIMEZONE
TZID:Europe/Berlin
X-LIC-LOCATION:Europe/Berlin
BEGIN:DAYLIGHT
DTSTART;VALUE=DATE-TIME:20260329T030000
TZNAME:CEST
TZOFFSETFROM:+0100
TZOFFSETTO:+0200
END:DAYLIGHT
END:VTIMEZONE
END:VCALENDAR
