BEGIN:VCALENDAR
VERSION:2.0
PRODID:-//Plone.org//NONSGML plone.app.event//EN
X-WR-TIMEZONE:Europe/Berlin
BEGIN:VEVENT
SUMMARY:Seminari MateDì: primo incontro
DTSTART;TZID=Europe/Berlin;VALUE=DATE-TIME:20251014T173000
DTSTAMP;VALUE=DATE-TIME:20260422T232716Z
UID:0ea11dad86b1432d8b4710fef98d4baa@localhost:8109
CATEGORIES:matematica
CREATED;VALUE=DATE-TIME:20251103T133739Z
LAST-MODIFIED;VALUE=DATE-TIME:20251103T134254Z
URL:https://corsi.unife.it/matematica/eventi-1/eventi-di-orientamento-1/se
 minari-matedi-primo-incontro
END:VEVENT
BEGIN:VTIMEZONE
TZID:Europe/Berlin
X-LIC-LOCATION:Europe/Berlin
BEGIN:DAYLIGHT
DTSTART;VALUE=DATE-TIME:20250330T030000
TZNAME:CEST
TZOFFSETFROM:+0100
TZOFFSETTO:+0200
END:DAYLIGHT
END:VTIMEZONE
END:VCALENDAR
