BEGIN:VCALENDAR
VERSION:2.0
PRODID:-//Plone.org//NONSGML plone.app.event//EN
X-WR-TIMEZONE:Europe/Berlin
BEGIN:VEVENT
SUMMARY:TERZO OPEN DAY 2026
DTSTART;TZID=Europe/Berlin;VALUE=DATE-TIME:20260514T150000
DTSTAMP;VALUE=DATE-TIME:20260423T034351Z
UID:fbcb38bdc7b848d7a26215bc8827e5e9@localhost:8109
CATEGORIES:matematica
CREATED;VALUE=DATE-TIME:20251110T114657Z
LAST-MODIFIED;VALUE=DATE-TIME:20251110T124824Z
URL:https://corsi.unife.it/matematica/eventi-1/eventi-di-orientamento-1/te
 rzo-open-day
END:VEVENT
BEGIN:VTIMEZONE
TZID:Europe/Berlin
X-LIC-LOCATION:Europe/Berlin
BEGIN:DAYLIGHT
DTSTART;VALUE=DATE-TIME:20260329T030000
TZNAME:CEST
TZOFFSETFROM:+0100
TZOFFSETTO:+0200
END:DAYLIGHT
END:VTIMEZONE
END:VCALENDAR
