BEGIN:VCALENDAR
VERSION:2.0
PRODID:-//Plone.org//NONSGML plone.app.event//EN
X-WR-TIMEZONE:Europe/Berlin
BEGIN:VEVENT
SUMMARY:Save the Date: MATH4JOB 2026
DTSTART;TZID=Europe/Berlin;VALUE=DATE-TIME:20260519T150000
DTSTAMP;VALUE=DATE-TIME:20260421T191511Z
UID:a102e0073191426c887739eacfed849f@localhost:8109
CATEGORIES:matematica
CREATED;VALUE=DATE-TIME:20260202T132150Z
LAST-MODIFIED;VALUE=DATE-TIME:20260417T121515Z
URL:https://corsi.unife.it/matematica/eventi-1/eventi-placement/save-the-d
 ate-math4job-2026
END:VEVENT
BEGIN:VTIMEZONE
TZID:Europe/Berlin
X-LIC-LOCATION:Europe/Berlin
BEGIN:DAYLIGHT
DTSTART;VALUE=DATE-TIME:20260329T030000
TZNAME:CEST
TZOFFSETFROM:+0100
TZOFFSETTO:+0200
END:DAYLIGHT
END:VTIMEZONE
END:VCALENDAR
